BEGIN:VCALENDAR
VERSION:2.0
PRODID:-//Şerife Tekin - ECPv6.15.17//NONSGML v1.0//EN
CALSCALE:GREGORIAN
METHOD:PUBLISH
X-WR-CALNAME:Şerife Tekin
X-ORIGINAL-URL:https://www.serifetekin.org
X-WR-CALDESC:Events for Şerife Tekin
REFRESH-INTERVAL;VALUE=DURATION:PT1H
X-Robots-Tag:noindex
X-PUBLISHED-TTL:PT1H
BEGIN:VTIMEZONE
TZID:America/Los_Angeles
BEGIN:DAYLIGHT
TZOFFSETFROM:-0800
TZOFFSETTO:-0700
TZNAME:PDT
DTSTART:20250309T100000
END:DAYLIGHT
BEGIN:STANDARD
TZOFFSETFROM:-0700
TZOFFSETTO:-0800
TZNAME:PST
DTSTART:20251102T090000
END:STANDARD
BEGIN:DAYLIGHT
TZOFFSETFROM:-0800
TZOFFSETTO:-0700
TZNAME:PDT
DTSTART:20260308T100000
END:DAYLIGHT
BEGIN:STANDARD
TZOFFSETFROM:-0700
TZOFFSETTO:-0800
TZNAME:PST
DTSTART:20261101T090000
END:STANDARD
BEGIN:DAYLIGHT
TZOFFSETFROM:-0800
TZOFFSETTO:-0700
TZNAME:PDT
DTSTART:20270314T100000
END:DAYLIGHT
BEGIN:STANDARD
TZOFFSETFROM:-0700
TZOFFSETTO:-0800
TZNAME:PST
DTSTART:20271107T090000
END:STANDARD
END:VTIMEZONE
BEGIN:VEVENT
DTSTART;TZID=America/Los_Angeles:20261119T080000
DTEND;TZID=America/Los_Angeles:20261122T170000
DTSTAMP:20260422T122156
CREATED:20260415T035840Z
LAST-MODIFIED:20260415T035840Z
UID:1762-1795075200-1795366800@www.serifetekin.org
SUMMARY:Upcoming Talk at "The Self in Science" Symposium: “Reconfiguring Stability in Psychiatry: Spraying the Self”
DESCRIPTION:“Reconfiguring Stability in Psychiatry: Spraying the Self\,” In “The Self in Science” Symposium (With Carl Craver\, Judith Carlisle\, Daniel Kelly\, Leda Berio) Philosophy of Science Association Meeting\, San Diego\, USA\, November 19-22\, 2026 \n\nTweet
URL:https://www.serifetekin.org/event/upcoming-talk-at-the-self-in-science-symposium-reconfiguring-stability-in-psychiatry-spraying-the-self/
END:VEVENT
END:VCALENDAR