BEGIN:VCALENDAR
VERSION:2.0
PRODID:-//Şerife Tekin - ECPv6.15.17//NONSGML v1.0//EN
CALSCALE:GREGORIAN
METHOD:PUBLISH
X-WR-CALNAME:Şerife Tekin
X-ORIGINAL-URL:https://www.serifetekin.org
X-WR-CALDESC:Events for Şerife Tekin
REFRESH-INTERVAL;VALUE=DURATION:PT1H
X-Robots-Tag:noindex
X-PUBLISHED-TTL:PT1H
BEGIN:VTIMEZONE
TZID:UTC
BEGIN:STANDARD
TZOFFSETFROM:+0000
TZOFFSETTO:+0000
TZNAME:UTC
DTSTART:20240101T000000
END:STANDARD
END:VTIMEZONE
BEGIN:VEVENT
DTSTART;TZID=UTC:20260416T080000
DTEND;TZID=UTC:20260417T170000
DTSTAMP:20260420T074339
CREATED:20260415T030538Z
LAST-MODIFIED:20260415T031325Z
UID:1721-1776326400-1776445200@www.serifetekin.org
SUMMARY:Upcoming Talk: “Rethinking the Reliability of Testimony in LLM-Mediated Self-Diagnosis”
DESCRIPTION:“Rethinking the Reliability of Testimony in LLM-Mediated Self-Diagnosis\,” Psychiatry On Demand Workshop\, McGill University\, Montreal\, Canada\, April 16-17\, 2026 \n\nTweet
URL:https://www.serifetekin.org/event/rethinking-the-reliability-of-testimony-in-llm-mediated-self-diagnosis/
LOCATION:McGill University\, 845 Sherbrooke St W\, Montreal\, Quebec\, H3A 0G4\, Canada
END:VEVENT
BEGIN:VEVENT
DTSTART;TZID=UTC:20250611T080000
DTEND;TZID=UTC:20250612T170000
DTSTAMP:20260420T074339
CREATED:20250113T024100Z
LAST-MODIFIED:20260415T030213Z
UID:1381-1749628800-1749747600@www.serifetekin.org
SUMMARY:"Patients\, Experience Based Expertise\, and Objectivity" at the Lived Experience\, Experiential Knowledge and Epistemic Injustice in Mental Healthcare Conference
DESCRIPTION:June 11-12\, 2025. Patients\, Experience Based Expertise\, and Objectivity. Lived Experience\, Experiential Knowledge and Epistemic Injustice in Mental Healthcare Conference. University of Radboud\, Nijmegen\, Netherlands.  \n\nTweet
URL:https://www.serifetekin.org/event/patients-experience-based-expertise-and-objectivity-at-the-lived-experience-experiential-knowledge-and-epistemic-injustice-in-mental-healthcare-conference/
END:VEVENT
BEGIN:VEVENT
DTSTART;TZID=UTC:20250527T080000
DTEND;TZID=UTC:20250529T170000
DTSTAMP:20260420T074339
CREATED:20250113T023943Z
LAST-MODIFIED:20260415T030210Z
UID:1379-1748332800-1748538000@www.serifetekin.org
SUMMARY:Book Workshop on Reclaiming the Self in Psychiatry
DESCRIPTION:May 27-29\, 2025. Book Workshop on Reclaiming the Self in Psychiatry: Centering Personal Narratives for a Humanist Science. Critics: Luc Faucher\, Mona Gupta and Corinne Lajoie. The Centre de recherche en éthique/Centre for Research in Ethics (CRÉ). Montreal\, Canada. \n\nTweet
URL:https://www.serifetekin.org/event/book-workshop-on-reclaiming-the-self-in-psychiatry/
END:VEVENT
BEGIN:VEVENT
DTSTART;TZID=UTC:20250520T080000
DTEND;TZID=UTC:20250521T170000
DTSTAMP:20260420T074339
CREATED:20250113T023835Z
LAST-MODIFIED:20260415T030206Z
UID:1377-1747728000-1747846800@www.serifetekin.org
SUMMARY:"People\, Moving Targets\, and Narratives" at Ian Hacking’s Legacy Conference
DESCRIPTION:May 20-21\, 2025. People\, Moving Targets\, and Narratives. Ian Hacking’s Legacy Conference\, Center for Values and Medicine\, Science and Technology. University of Texas at Dallas. \n\nTweet
URL:https://www.serifetekin.org/event/people-moving-targets-and-narratives-at-ian-hackings-legacy-conference/
END:VEVENT
BEGIN:VEVENT
DTSTART;TZID=UTC:20250403T080000
DTEND;TZID=UTC:20250406T170000
DTSTAMP:20260420T074339
CREATED:20250113T023735Z
LAST-MODIFIED:20260415T030200Z
UID:1375-1743667200-1743958800@www.serifetekin.org
SUMMARY:Invited Author Meets Critics Session for Reclaiming the Self in Psychiatry
DESCRIPTION:April 3-6\, 2025. Invited Author Meets Critics Session for Reclaiming the Self in Psychiatry: Centering Personal Narratives for a Humanist Science\, Critics: John Doris\, Luc Faucher\, and Tad Zawidzki. Southern Society for Philosophy and Psychology\, Mobile\, USA. \n\nTweet
URL:https://www.serifetekin.org/event/invited-author-meets-critics-session-for-reclaiming-the-self-in-psychiatry/
END:VEVENT
BEGIN:VEVENT
DTSTART;VALUE=DATE:20250328
DTEND;VALUE=DATE:20250329
DTSTAMP:20260420T074339
CREATED:20240408T024903Z
LAST-MODIFIED:20260415T030151Z
UID:1179-1743120000-1743206399@www.serifetekin.org
SUMMARY:Talk at University of Iowa\, March 2025
DESCRIPTION:March 28\, 2025. Bergmann Lecture and the University of Iowa Graduate Philosophical Society Keynote Lecture\, University of Iowa\, Iowa City\, USA. \n  \n  \n\nTweet
URL:https://www.serifetekin.org/event/upcoming-talk-at-university-of-iowa-march-2025/
LOCATION:University of Iowa\, Iowa City\, IA\, 52242\, United States
END:VEVENT
BEGIN:VEVENT
DTSTART;VALUE=DATE:20250124
DTEND;VALUE=DATE:20250125
DTSTAMP:20260420T074339
CREATED:20240408T024714Z
LAST-MODIFIED:20260415T030027Z
UID:1176-1737676800-1737763199@www.serifetekin.org
SUMMARY:Talk at Simon Fraser University\, January 2025
DESCRIPTION:Mental Disorders\, Science\, and Narratives. Simon Fraser University\, Vancouver\, Canada. \nJanuary 24\, 2025. Simon Fraser University\, BC\, Canada \n\nTweet
URL:https://www.serifetekin.org/event/upcoming-talk-at-simon-fraser-university-january-2025/
LOCATION:Simon Fraser University\, 8888 University Dr W\, Burnaby\, BC\, 5A 1S6\, Canada
END:VEVENT
END:VCALENDAR