BEGIN:VCALENDAR
VERSION:2.0
PRODID:-//Şerife Tekin - ECPv6.15.17//NONSGML v1.0//EN
CALSCALE:GREGORIAN
METHOD:PUBLISH
X-ORIGINAL-URL:https://www.serifetekin.org
X-WR-CALDESC:Events for Şerife Tekin
REFRESH-INTERVAL;VALUE=DURATION:PT1H
X-Robots-Tag:noindex
X-PUBLISHED-TTL:PT1H
BEGIN:VTIMEZONE
TZID:America/Halifax
BEGIN:DAYLIGHT
TZOFFSETFROM:-0400
TZOFFSETTO:-0300
TZNAME:ADT
DTSTART:20250309T060000
END:DAYLIGHT
BEGIN:STANDARD
TZOFFSETFROM:-0300
TZOFFSETTO:-0400
TZNAME:AST
DTSTART:20251102T050000
END:STANDARD
BEGIN:DAYLIGHT
TZOFFSETFROM:-0400
TZOFFSETTO:-0300
TZNAME:ADT
DTSTART:20260308T060000
END:DAYLIGHT
BEGIN:STANDARD
TZOFFSETFROM:-0300
TZOFFSETTO:-0400
TZNAME:AST
DTSTART:20261101T050000
END:STANDARD
BEGIN:DAYLIGHT
TZOFFSETFROM:-0400
TZOFFSETTO:-0300
TZNAME:ADT
DTSTART:20270314T060000
END:DAYLIGHT
BEGIN:STANDARD
TZOFFSETFROM:-0300
TZOFFSETTO:-0400
TZNAME:AST
DTSTART:20271107T050000
END:STANDARD
END:VTIMEZONE
BEGIN:VEVENT
DTSTART;TZID=America/Halifax:20261009T153000
DTEND;TZID=America/Halifax:20261009T170000
DTSTAMP:20260422T094846
CREATED:20260415T035346Z
LAST-MODIFIED:20260415T035346Z
UID:1758-1791559800-1791565200@www.serifetekin.org
SUMMARY:Upcoming Talk: “Stability and Intervention in Psychiatry”
DESCRIPTION:“Stability and Intervention in Psychiatry\,” Annual Lecture Series\, Center for Philosophy of Science\, University of Pittsburgh\, October 9\, 2026 \nAbstract: \nPsychiatry is often described as a methodologically unstable or fragmented science\, given its reliance on heterogeneous explanatory frameworks ranging from neuroscience and psychopharmacology to narrative\, phenomenological\, and patient-centered approaches. Philosophical critiques of psychiatry’s scientific standing frequently treat this heterogeneity as a liability\, suggesting that without stable objects of inquiry or unified classificatory kinds\, psychiatry cannot meet the explanatory and interventionist standards typically associated with mature science. This talk challenges that assumption by reconsidering what stability should mean in the context of psychiatric inquiry. Rather than treating stability as a property of diagnostic kinds or underlying mechanisms\, I suggest that it is more productively understood as something achieved through scientific and clinical practice. Drawing on work on scientific intervention\, disunity\, and the interactive nature of human kinds\, I argue that psychiatry’s epistemic success does not depend on discovering fixed natural kinds\, but on its capacity to generate locally reliable forms of explanation\, prediction\, and intervention. More broadly\, this perspective suggests that psychiatric stability is achieved through interventions that engage persons as reflective\, interactive\, and socially embedded targets of scientific practice. \n\nTweet
URL:https://www.serifetekin.org/event/upcoming-talk-stability-and-intervention-in-psychiatry/
LOCATION:1008 Cathedral of Learning\, 4200 Fifth Ave\, Pittsburgh\, PA\, 15260\, United States
ORGANIZER;CN="Center for Philosophy of Science":MAILTO:pittcntr@pitt.edu
END:VEVENT
END:VCALENDAR