BEGIN:VCALENDAR
VERSION:2.0
PRODID:-//Şerife Tekin - ECPv6.15.17//NONSGML v1.0//EN
CALSCALE:GREGORIAN
METHOD:PUBLISH
X-WR-CALNAME:Şerife Tekin
X-ORIGINAL-URL:https://www.serifetekin.org
X-WR-CALDESC:Events for Şerife Tekin
REFRESH-INTERVAL;VALUE=DURATION:PT1H
X-Robots-Tag:noindex
X-PUBLISHED-TTL:PT1H
BEGIN:VTIMEZONE
TZID:UTC
BEGIN:STANDARD
TZOFFSETFROM:+0000
TZOFFSETTO:+0000
TZNAME:UTC
DTSTART:20250101T000000
END:STANDARD
END:VTIMEZONE
BEGIN:VEVENT
DTSTART;TZID=UTC:20260617T080000
DTEND;TZID=UTC:20260620T170000
DTSTAMP:20260420T073239
CREATED:20260414T034128Z
LAST-MODIFIED:20260415T034426Z
UID:1755-1781683200-1781974800@www.serifetekin.org
SUMMARY:Upcoming Talk: “Reconfiguring Stability in Psychiatry: Spraying the Self”
DESCRIPTION:“Reconfiguring Stability in Psychiatry: Spraying the Self\,” Society for Philosophy and Psychology Meeting\, Johns Hopkins University\, Baltimore\, USA\, June 17-20 2026 \n\nTweet
URL:https://www.serifetekin.org/event/upcoming-talk-reconfiguring-stability-in-psychiatry-spraying-the-self/
LOCATION:Johns Hopkins University\, 3400 N. Charles St\, Baltimore\, MD\, 21218\, United States
END:VEVENT
END:VCALENDAR